BEGIN:VCALENDAR
VERSION:2.0
PRODID:-//eventon.com NONSGML v1.0//EN
CALSCALE:GREGORIAN
METHOD:PUBLISH
BEGIN:VEVENT
UID:69ea314f4abde
DTSTAMP:20260423T144847Z
DTSTART:20220824T103000Z
DTEND:20220824T123000Z
LOCATION:
SUMMARY:Brewery Night - Social Dinner!
DESCRIPTION:Our next neighbourhood social dinner will be at Valley Social (
  https://valleysocial.com.au/ ) he next in our series of informal dinners w
 ill be at Valley Social on Wednesday 24th August\,  from 6.30pm. (However\,
   they do have a happy hour from 5-6pm if you would like to go earlier for 
 drinks[..]\nhttps://thevinesra.com.au/events/social-dinner/
URL:https://thevinesra.com.au/events/social-dinner/
END:VEVENT
END:VCALENDAR